BEGIN:VCALENDAR
VERSION:2.0
PRODID:SchoolNow
CALSCALE:GREGORIAN
BEGIN:VEVENT
UID:cd59c786-a30c-11ed-bad8-0a5895102171
DTSTAMP:20231218T213314Z
SUMMARY:School Board Meeting - June 7\, 2023
LOCATION:Administration Center
URL;VALUE=URI:https://www.hammond.k12.in.us/calendar/3711074/school-board-m
 eeting-june-7-2023
DTSTART:20230607T230000Z
DTEND:20230608T003000Z
END:VEVENT
END:VCALENDAR
