BEGIN:VCALENDAR
VERSION:2.0
PRODID:SchoolNow
CALSCALE:GREGORIAN
BEGIN:VEVENT
UID:c0a7e4b4-a30c-11ed-ae8b-02d3ce1f9d3d
DTSTAMP:20231218T214158Z
SUMMARY:Public Work Session - May 3\, 2023
LOCATION:Administration Center
URL;VALUE=URI:https://www.hammond.k12.in.us/calendar/3711073/public-work-se
 ssion-may-3-2023
DTSTART:20230503T234500Z
DTEND:20230504T010000Z
ATTACH;FILENAME=SCH_Executive Session Special Meeting Public Work Session_M
 ay 2023.pdf;FMTTYPE=application/pdf:https://campussuite-storage.s3.amazona
 ws.com/prod/1559033/fab8744a-ab41-11ea-9bfa-127f10bcdb1b/2584735/8ca0530e-
 e515-11ed-bbb9-0aecd7a4d8c1/file/SCH_Executive Session Special Meeting Pub
 lic Work Session_May 2023.pdf
END:VEVENT
END:VCALENDAR
