BEGIN:VCALENDAR
VERSION:2.0
PRODID:SchoolNow
CALSCALE:GREGORIAN
BEGIN:VEVENT
UID:29481c42-a30c-11ed-a338-0aa3e8dfdf1d
DTSTAMP:20231218T214746Z
SUMMARY:Public Work Session - March 7\, 2023
LOCATION:Administration Center
URL;VALUE=URI:https://www.hammond.k12.in.us/calendar/3711071/public-work-se
 ssion-march-7-2023
DTSTART:20230308T000000Z
DTEND:20230308T013000Z
ATTACH;FILENAME=SCH_Public Work Sessions Executive Session_Mar 2023.pdf;FMT
 TYPE=application/pdf:https://campussuite-storage.s3.amazonaws.com/prod/155
 9033/fab8744a-ab41-11ea-9bfa-127f10bcdb1b/2559962/0996c172-bc3a-11ed-9a85-
 0a2373ca4b3f/file/SCH_Public Work Sessions Executive Session_Mar 2023.pdf
END:VEVENT
END:VCALENDAR
