BEGIN:VCALENDAR
VERSION:2.0
PRODID:SchoolNow
CALSCALE:GREGORIAN
BEGIN:VEVENT
UID:1adee218-a30b-11ed-b198-0e4d267229df
DTSTAMP:20231218T213155Z
SUMMARY:School Board Meeting - Feb. 21\, 2023
LOCATION:41 Williams Street\, Hammond\, IN. 46320
URL;VALUE=URI:https://www.hammond.k12.in.us/calendar/3711069/school-board-m
 eeting-feb-21-2023
DTSTART:20230222T000000Z
DTEND:20230222T020000Z
END:VEVENT
END:VCALENDAR
