BEGIN:VCALENDAR
VERSION:2.0
PRODID:SchoolNow
CALSCALE:GREGORIAN
BEGIN:VEVENT
UID:02783206-a30b-11ed-b94e-0e4d267229df
DTSTAMP:20231218T214733Z
SUMMARY:Public Work Session - Feb. 28\, 2023
LOCATION:Administration Center
URL;VALUE=URI:https://www.hammond.k12.in.us/calendar/3711068/public-work-se
 ssion-feb-28-2023
DTSTART:20230301T000000Z
DTEND:20230301T013000Z
ATTACH;FILENAME=SCH_Public Work Sessions Executive Session_Feb 2023.pdf;FMT
 TYPE=application/pdf:https://campussuite-storage.s3.amazonaws.com/prod/155
 9033/fab8744a-ab41-11ea-9bfa-127f10bcdb1b/2549617/acbd5fea-a953-11ed-8bb9-
 02f00a94f8b9/file/SCH_Public Work Sessions Executive Session_Feb 2023.pdf
END:VEVENT
END:VCALENDAR
