BEGIN:VCALENDAR
VERSION:2.0
PRODID:SchoolNow
CALSCALE:GREGORIAN
BEGIN:VEVENT
UID:ded1c510-a30a-11ed-a4d9-0e4d267229df
DTSTAMP:20231218T214719Z
SUMMARY:Public Work Session - Feb. 14\, 2023
LOCATION:Administration Center
URL;VALUE=URI:https://www.hammond.k12.in.us/calendar/3711066/public-work-se
 ssion-feb-14-2023
DTSTART:20230215T000000Z
DTEND:20230215T013000Z
ATTACH;FILENAME=SCH_Public Work Sessions Executive Session_Feb 2023.pdf;FMT
 TYPE=application/pdf:https://campussuite-storage.s3.amazonaws.com/prod/155
 9033/fab8744a-ab41-11ea-9bfa-127f10bcdb1b/2549617/acbd5fea-a953-11ed-8bb9-
 02f00a94f8b9/file/SCH_Public Work Sessions Executive Session_Feb 2023.pdf
END:VEVENT
END:VCALENDAR
