BEGIN:VCALENDAR
VERSION:2.0
PRODID:SchoolNow
CALSCALE:GREGORIAN
BEGIN:VEVENT
UID:d76c06dc-a30a-11ed-b315-0e4d267229df
DTSTAMP:20231218T214705Z
SUMMARY:Public Work Session - Feb. 7\, 2023
LOCATION:Administration Center
URL;VALUE=URI:https://www.hammond.k12.in.us/calendar/3711065/public-work-se
 ssion-feb-7-2023
DTSTART:20230208T000000Z
DTEND:20230208T013000Z
END:VEVENT
END:VCALENDAR
