BEGIN:VCALENDAR
VERSION:2.0
PRODID:SchoolNow
CALSCALE:GREGORIAN
BEGIN:VEVENT
UID:50fbaba0-98e4-11ed-8bb4-0e4090619047
DTSTAMP:20231218T175311Z
SUMMARY:Executive Session - Jan. 24\, 2023
LOCATION:Administration Center
URL;VALUE=URI:https://www.hammond.k12.in.us/calendar/3677426/executive-sess
 ion-jan-24-2023
DTSTART:20230124T233000Z
DTEND:20230125T000000Z
ATTACH;FILENAME=SCH_Executive Session_Public Work Session_Jan 2023 (1).pdf;
 FMTTYPE=application/pdf:https://campussuite-storage.s3.amazonaws.com/prod/
 1559033/fab8744a-ab41-11ea-9bfa-127f10bcdb1b/2539325/9664ff9a-9900-11ed-94
 ff-02fb7ac07601/file/SCH_Executive Session_Public Work Session_Jan 2023 (1
 ).pdf
END:VEVENT
END:VCALENDAR
