BEGIN:VCALENDAR
VERSION:2.0
PRODID:SchoolNow
CALSCALE:GREGORIAN
BEGIN:VEVENT
UID:1aa36618-92ba-11ed-a2b2-020df3bc6773
DTSTAMP:20231218T175406Z
SUMMARY:Executive Session - Jan. 17\, 2023
LOCATION:Administration Center
URL;VALUE=URI:https://www.hammond.k12.in.us/calendar/3665818/executive-sess
 ion-jan-17-2023
DTSTART:20230117T233000Z
DTEND:20230118T003000Z
ATTACH;FILENAME=SCH_Executive Session_Jan 17 23.pdf;FMTTYPE=application/pdf
 :https://campussuite-storage.s3.amazonaws.com/prod/1559033/fab8744a-ab41-1
 1ea-9bfa-127f10bcdb1b/2536260/fec6b6ac-92b9-11ed-81ed-020df3bc6773/file/SC
 H_Executive Session_Jan 17 23.pdf
END:VEVENT
END:VCALENDAR
