BEGIN:VCALENDAR
VERSION:2.0
PRODID:SchoolNow
CALSCALE:GREGORIAN
BEGIN:VEVENT
UID:67ced226-9047-11ed-9349-02ef8f3729f3
DTSTAMP:20230109T215149Z
SUMMARY:SCH Family Forum: "Mindful Parenting
LOCATION:SCH Welcome Center\, 1238 Michigan Street\, Hammond\, IN  46320
URL;VALUE=URI:https://www.hammond.k12.in.us/calendar/3661424/sch-family-for
 um-mindful-parenting
DTSTART:20230111T153000Z
DTEND:20230111T173000Z
ATTACH;FILENAME=FF Jan Eng.png;FMTTYPE=image/png:https://campussuite-storag
 e.s3.amazonaws.com/prod/1559033/fab8744a-ab41-11ea-9bfa-127f10bcdb1b/25344
 65/d2ad5ed8-9046-11ed-8ae4-0aa52cf13d11/file/FF Jan Eng.png
ATTACH;FILENAME=FF Jan Span.png;FMTTYPE=image/png:https://campussuite-stora
 ge.s3.amazonaws.com/prod/1559033/fab8744a-ab41-11ea-9bfa-127f10bcdb1b/2534
 466/d2ad6720-9046-11ed-993a-0aa52cf13d11/file/FF Jan Span.png
END:VEVENT
END:VCALENDAR
