BEGIN:VCALENDAR
VERSION:2.0
PRODID:SchoolNow
CALSCALE:GREGORIAN
BEGIN:VEVENT
UID:c6bc6cfc-8c5b-11ed-a05c-02ad8ec94d81
DTSTAMP:20231218T175420Z
SUMMARY:Executive Session - Jan. 10\, 2023
LOCATION:41 Williams Street\, Hammond\, IN. 46320
URL;VALUE=URI:https://www.hammond.k12.in.us/calendar/3655499/executive-sess
 ion-jan-10-2023
DTSTART:20230110T233000Z
DTEND:20230111T000000Z
ATTACH;FILENAME=SCH_Executive Session_Jan 2023.pdf;FMTTYPE=application/pdf:
 https://campussuite-storage.s3.amazonaws.com/prod/1559033/fab8744a-ab41-11
 ea-9bfa-127f10bcdb1b/2533140/c0754274-8c5b-11ed-becf-0e8c363af63b/file/SCH
 _Executive Session_Jan 2023.pdf
END:VEVENT
END:VCALENDAR
