BEGIN:VCALENDAR
VERSION:2.0
PRODID:SchoolNow
CALSCALE:GREGORIAN
BEGIN:VEVENT
UID:870d3790-8c5a-11ed-bc05-0e21da113137
DTSTAMP:20231218T213121Z
SUMMARY:School Board Meeting - Jan. 10\, 2023
LOCATION:41 Williams Street\, Hammond\, IN. 46320
URL;VALUE=URI:https://www.hammond.k12.in.us/calendar/3655497/school-board-m
 eeting-jan-10-2023
DTSTART:20230111T000000Z
DTEND:20230111T020000Z
ATTACH;FILENAME=School Board Meetings_Jan 2023.pdf;FMTTYPE=application/pdf:
 https://campussuite-storage.s3.amazonaws.com/prod/1559033/fab8744a-ab41-11
 ea-9bfa-127f10bcdb1b/2533139/78c512ca-8c5a-11ed-9f8f-0aa375bd7fdb/file/Sch
 ool Board Meetings_Jan 2023.pdf
END:VEVENT
END:VCALENDAR
