BEGIN:VCALENDAR
VERSION:2.0
PRODID:SchoolNow
CALSCALE:GREGORIAN
BEGIN:VEVENT
UID:b83c3e30-87b2-11ed-bbfa-0ad087b68eb3
DTSTAMP:20231218T215125Z
SUMMARY:Special Board Meeting - Jan. 5\, 2023
LOCATION:41 Williams Street\, Hammond\, IN. 46320
URL;VALUE=URI:https://www.hammond.k12.in.us/calendar/3652476/special-board-
 meeting-jan-5-2023
DTSTART:20230105T233000Z
DTEND:20230106T003000Z
ATTACH;FILENAME=SCH_Special Mtg_Jan 5 23.pdf;FMTTYPE=application/pdf:https:
 //campussuite-storage.s3.amazonaws.com/prod/1559033/fab8744a-ab41-11ea-9bf
 a-127f10bcdb1b/2531992/b407c44c-87b2-11ed-a947-0ad087b68eb3/file/SCH_Speci
 al Mtg_Jan 5 23.pdf
END:VEVENT
END:VCALENDAR
