BEGIN:VCALENDAR
VERSION:2.0
PRODID:SchoolNow
CALSCALE:GREGORIAN
BEGIN:VEVENT
UID:cdc8609e-7bf0-11ed-8a46-02a5abbf6feb
DTSTAMP:20221214T204938Z
SUMMARY:SCH Public Sale
LOCATION:Clark High School\, 1921 Davis Ave (Door F)\, Whiting\, IN  46394
URL;VALUE=URI:https://www.hammond.k12.in.us/calendar/3644139/sch-public-sal
 e
DTSTART:20221220T150000Z
DTEND:20221220T200000Z
ATTACH;FILENAME=SCH Public Sale List (1).pdf;FMTTYPE=application/pdf:https:
 //campussuite-storage.s3.amazonaws.com/prod/1559033/fab8744a-ab41-11ea-9bf
 a-127f10bcdb1b/2525182/d6fc743a-7a5f-11ed-9274-0ad01f861275/file/SCH Publi
 c Sale List (1).pdf
END:VEVENT
END:VCALENDAR
