BEGIN:VCALENDAR
VERSION:2.0
PRODID:SchoolNow
CALSCALE:GREGORIAN
BEGIN:VEVENT
UID:693891bc-7bf0-11ed-91df-0a9b9dce2501
DTSTAMP:20221214T204959Z
SUMMARY:SCH Vehicle Public Sale
LOCATION:Area Career Center\, 5727 Sohl Ave (Carroll Street Parking Lot)
URL;VALUE=URI:https://www.hammond.k12.in.us/calendar/3644138/sch-vehicle-pu
 blic-sale
DTSTART:20221219T150000Z
DTEND:20221219T200000Z
ATTACH;FILENAME=SCH Public Sale List (1).pdf;FMTTYPE=application/pdf:https:
 //campussuite-storage.s3.amazonaws.com/prod/1559033/fab8744a-ab41-11ea-9bf
 a-127f10bcdb1b/2525182/d6fc743a-7a5f-11ed-9274-0ad01f861275/file/SCH Publi
 c Sale List (1).pdf
END:VEVENT
END:VCALENDAR
