BEGIN:VCALENDAR
VERSION:2.0
PRODID:SchoolNow
CALSCALE:GREGORIAN
BEGIN:VEVENT
UID:1d853fa2-61d0-11ed-a545-0e60a1d59f7d
DTSTAMP:20231218T213103Z
SUMMARY:School Board Meeting - Dec. 13\, 2022
LOCATION:41 Williams Street\, Hammond\, IN. 46320
URL;VALUE=URI:https://www.hammond.k12.in.us/calendar/3604851/school-board-m
 eeting-dec-13-2022
DTSTART:20221214T000000Z
DTEND:20221214T020000Z
ATTACH;FILENAME=School Board Meetings_Nov Dec_2022_R.pdf;FMTTYPE=applicatio
 n/pdf:https://campussuite-storage.s3.amazonaws.com/prod/1559033/fab8744a-a
 b41-11ea-9bfa-127f10bcdb1b/2506054/c9e2aaf8-5ebc-11ed-8f21-0a7e37eba60d/fi
 le/School Board Meetings_Nov Dec_2022_R.pdf
END:VEVENT
END:VCALENDAR
