BEGIN:VCALENDAR
VERSION:2.0
PRODID:SchoolNow
CALSCALE:GREGORIAN
BEGIN:VEVENT
UID:5b5c6c8e-61cf-11ed-ac54-0edd1538bb65
DTSTAMP:20231218T175435Z
SUMMARY:Executive Session - Dec. 13\, 2022
LOCATION:Administration Center
URL;VALUE=URI:https://www.hammond.k12.in.us/calendar/3604850/executive-sess
 ion-dec-13-2022
DTSTART:20221213T233000Z
DTEND:20221214T000000Z
ATTACH;FILENAME=SCH_Executive Sessions_Nov Dec 2022.pdf;FMTTYPE=application
 /pdf:https://campussuite-storage.s3.amazonaws.com/prod/1559033/fab8744a-ab
 41-11ea-9bfa-127f10bcdb1b/2508230/b238b586-61ce-11ed-99b5-0ed7fa807b31/fil
 e/SCH_Executive Sessions_Nov Dec 2022.pdf
END:VEVENT
END:VCALENDAR
