BEGIN:VCALENDAR
VERSION:2.0
PRODID:SchoolNow
CALSCALE:GREGORIAN
BEGIN:VEVENT
UID:1d16a968-5c83-11ed-84fd-027d9ad6b43b
DTSTAMP:20231218T213804Z
SUMMARY:Public Meeting - TA Meeting - Nov. 9\, 2022
LOCATION:Administration Center
URL;VALUE=URI:https://www.hammond.k12.in.us/calendar/3589026/public-meeting
 -ta-meeting-nov-9-2022
DTSTART:20221110T003000Z
DTEND:20221110T013000Z
ATTACH;FILENAME=SCH_Public Meetings_Executive Session_1122_R.pdf;FMTTYPE=ap
 plication/pdf:https://campussuite-storage.s3.amazonaws.com/prod/1559033/fa
 b8744a-ab41-11ea-9bfa-127f10bcdb1b/2506053/6e3853c4-5ebc-11ed-bba8-0e29190
 3443f/file/SCH_Public Meetings_Executive Session_1122_R.pdf
END:VEVENT
END:VCALENDAR
