BEGIN:VCALENDAR
VERSION:2.0
PRODID:SchoolNow
CALSCALE:GREGORIAN
BEGIN:VEVENT
UID:e4756e6e-5c82-11ed-b933-027d9ad6b43b
DTSTAMP:20231218T180954Z
SUMMARY:Executive Session - Nov. 9\, 2022
LOCATION:Administration Center
URL;VALUE=URI:https://www.hammond.k12.in.us/calendar/3589025/executive-sess
 ion-nov-9-2022
DTSTART:20221109T233000Z
DTEND:20221110T003000Z
ATTACH;FILENAME=SCH_Public Meetings_Executive Session_1122_R.pdf;FMTTYPE=ap
 plication/pdf:https://campussuite-storage.s3.amazonaws.com/prod/1559033/fa
 b8744a-ab41-11ea-9bfa-127f10bcdb1b/2506053/6e3853c4-5ebc-11ed-bba8-0e29190
 3443f/file/SCH_Public Meetings_Executive Session_1122_R.pdf
END:VEVENT
END:VCALENDAR
