BEGIN:VCALENDAR
VERSION:2.0
PRODID:SchoolNow
CALSCALE:GREGORIAN
BEGIN:VEVENT
UID:33065a00-465a-11ed-acd2-02ca20bc8bc7
DTSTAMP:20231218T214635Z
SUMMARY:Public Work Session - Oct 11\, 2022
LOCATION:Administration Center
URL;VALUE=URI:https://www.hammond.k12.in.us/calendar/3494912/public-work-se
 ssion-oct-11-2022
DTSTART:20221011T223000Z
DTEND:20221011T233000Z
ATTACH;FILENAME=SCH_Public Work Sessions_10112022 (1).pdf;FMTTYPE=applicati
 on/pdf:https://campussuite-storage.s3.amazonaws.com/prod/1559033/fab8744a-
 ab41-11ea-9bfa-127f10bcdb1b/2489105/979da78e-465a-11ed-b1d9-0a5f614c30e5/f
 ile/SCH_Public Work Sessions_10112022 (1).pdf
END:VEVENT
END:VCALENDAR
