BEGIN:VCALENDAR
VERSION:2.0
PRODID:SchoolNow
CALSCALE:GREGORIAN
BEGIN:VEVENT
UID:edd1b910-40dd-11ed-af4d-02cb43f7d24f
DTSTAMP:20231218T181830Z
SUMMARY:Executive Session - Oct. 24\, 2022
LOCATION:Administration Center
URL;VALUE=URI:https://www.hammond.k12.in.us/calendar/3464972/executive-sess
 ion-oct-24-2022
DTSTART:20221024T223000Z
DTEND:20221024T230000Z
ATTACH;FILENAME=SCH_Executive Session_Oct 24 2022.pdf;FMTTYPE=application/p
 df:https://campussuite-storage.s3.amazonaws.com/prod/1559033/fab8744a-ab41
 -11ea-9bfa-127f10bcdb1b/2485303/e17bc4da-40dd-11ed-adb4-0a1891eb2489/file/
 SCH_Executive Session_Oct 24 2022.pdf
END:VEVENT
END:VCALENDAR
