BEGIN:VCALENDAR
VERSION:2.0
PRODID:SchoolNow
CALSCALE:GREGORIAN
BEGIN:VEVENT
UID:34319a76-40dc-11ed-9a26-0e35533e711b
DTSTAMP:20231218T181043Z
SUMMARY:Executive Session - Oct. 25\, 2022
LOCATION:Administration Center
URL;VALUE=URI:https://www.hammond.k12.in.us/calendar/3464963/executive-sess
 ion-oct-25-2022
DTSTART:20221025T223000Z
DTEND:20221025T230000Z
ATTACH;FILENAME=SCH_Executive Sessions_Oct 2022.pdf;FMTTYPE=application/pdf
 :https://campussuite-storage.s3.amazonaws.com/prod/1559033/fab8744a-ab41-1
 1ea-9bfa-127f10bcdb1b/2485286/1b680dae-40dc-11ed-8285-0e35533e711b/file/SC
 H_Executive Sessions_Oct 2022.pdf
END:VEVENT
END:VCALENDAR
