BEGIN:VCALENDAR
VERSION:2.0
PRODID:SchoolNow
CALSCALE:GREGORIAN
BEGIN:VEVENT
UID:24336942-40dc-11ed-a5b8-0e35533e711b
DTSTAMP:20231218T184506Z
SUMMARY:Executive Session - Oct. 6\, 2022
LOCATION:Administration Center
URL;VALUE=URI:https://www.hammond.k12.in.us/calendar/3464962/executive-sess
 ion-oct-6-2022
DTSTART:20221006T223000Z
DTEND:20221006T230000Z
ATTACH;FILENAME=SCH_Executive Sessions_Oct 2022.pdf;FMTTYPE=application/pdf
 :https://campussuite-storage.s3.amazonaws.com/prod/1559033/fab8744a-ab41-1
 1ea-9bfa-127f10bcdb1b/2485286/1b680dae-40dc-11ed-8285-0e35533e711b/file/SC
 H_Executive Sessions_Oct 2022.pdf
END:VEVENT
END:VCALENDAR
