BEGIN:VCALENDAR
VERSION:2.0
PRODID:SchoolNow
CALSCALE:GREGORIAN
BEGIN:VEVENT
UID:e9d0a846-f6ee-11ec-bad1-0ee793c0eb87
DTSTAMP:20231218T220027Z
SUMMARY:Teacher Work Day (No School for Students) - June 9\, 2023
URL;VALUE=URI:https://www.hammond.k12.in.us/calendar/3232153/teacher-work-d
 ay-no-school-for-students-june-9-2023
DTSTART;VALUE=DATE:20230609
DTEND;VALUE=DATE:20230610
END:VEVENT
END:VCALENDAR
