BEGIN:VCALENDAR
VERSION:2.0
PRODID:SchoolNow
CALSCALE:GREGORIAN
BEGIN:VEVENT
UID:c09eda56-f6ee-11ec-b2ac-0ee793c0eb87
DTSTAMP:20231218T215451Z
SUMMARY:Last Day of School 2023
URL;VALUE=URI:https://www.hammond.k12.in.us/calendar/3232152/last-day-of-sc
 hool-2023
DTSTART;VALUE=DATE:20230608
DTEND;VALUE=DATE:20230609
END:VEVENT
END:VCALENDAR
