BEGIN:VCALENDAR
VERSION:2.0
PRODID:SchoolNow
CALSCALE:GREGORIAN
BEGIN:VEVENT
UID:a7485e7e-f6ee-11ec-a83c-0ee793c0eb87
DTSTAMP:20231218T220235Z
SUMMARY:Memorial Day 2023 (No School)
URL;VALUE=URI:https://www.hammond.k12.in.us/calendar/3232151/memorial-day-2
 023-no-school
DTSTART;VALUE=DATE:20230529
DTEND;VALUE=DATE:20230530
END:VEVENT
END:VCALENDAR
