BEGIN:VCALENDAR
VERSION:2.0
PRODID:SchoolNow
CALSCALE:GREGORIAN
BEGIN:VEVENT
UID:970349d4-f6ee-11ec-afa5-0ee793c0eb87
DTSTAMP:20231218T223005Z
SUMMARY:Synchronous eLearning Day (Elections) - May 2\, 2023
URL;VALUE=URI:https://www.hammond.k12.in.us/calendar/3232150/synchronous-el
 earning-day-elections-may-2-2023
DTSTART;VALUE=DATE:20230502
DTEND;VALUE=DATE:20230503
END:VEVENT
END:VCALENDAR
