BEGIN:VCALENDAR
VERSION:2.0
PRODID:SchoolNow
CALSCALE:GREGORIAN
BEGIN:VEVENT
UID:7c714f58-f6ee-11ec-bd98-0ee793c0eb87
DTSTAMP:20231218T220728Z
SUMMARY:Easter Monday 2023 (No School)
URL;VALUE=URI:https://www.hammond.k12.in.us/calendar/3232149/easter-monday-
 2023-no-school
DTSTART;VALUE=DATE:20230410
DTEND;VALUE=DATE:20230411
END:VEVENT
END:VCALENDAR
