BEGIN:VCALENDAR
VERSION:2.0
PRODID:SchoolNow
CALSCALE:GREGORIAN
BEGIN:VEVENT
UID:65e15c56-f6ee-11ec-968c-0ee793c0eb87
DTSTAMP:20231218T220928Z
SUMMARY:Good Friday 2023 (No School)
URL;VALUE=URI:https://www.hammond.k12.in.us/calendar/3232148/good-friday-20
 23-no-school
DTSTART;VALUE=DATE:20230407
DTEND;VALUE=DATE:20230408
END:VEVENT
END:VCALENDAR
