BEGIN:VCALENDAR
VERSION:2.0
PRODID:SchoolNow
CALSCALE:GREGORIAN
BEGIN:VEVENT
UID:53576242-f6ee-11ec-951f-0ee793c0eb87
DTSTAMP:20231218T220857Z
SUMMARY:Spring Break 2023 (No School)
URL;VALUE=URI:https://www.hammond.k12.in.us/calendar/3232147/spring-break-2
 023-no-school
DTSTART;VALUE=DATE:20230320
DTEND;VALUE=DATE:20230325
END:VEVENT
END:VCALENDAR
