BEGIN:VCALENDAR
VERSION:2.0
PRODID:SchoolNow
CALSCALE:GREGORIAN
BEGIN:VEVENT
UID:344a7d62-f6ee-11ec-a18c-02b6f021da91
DTSTAMP:20231218T220312Z
SUMMARY:President's Day 2023 (No School)
URL;VALUE=URI:https://www.hammond.k12.in.us/calendar/3232146/presidents-day
 -2023-no-school
DTSTART;VALUE=DATE:20230220
DTEND;VALUE=DATE:20230221
END:VEVENT
END:VCALENDAR
