BEGIN:VCALENDAR
VERSION:2.0
PRODID:SchoolNow
CALSCALE:GREGORIAN
BEGIN:VEVENT
UID:20c5e236-f6ee-11ec-8413-02b6f021da91
DTSTAMP:20231218T222947Z
SUMMARY:Asynchronous eLearning Day & Parent/Teacher Conferences - Feb. 15\,
  2023
URL;VALUE=URI:https://www.hammond.k12.in.us/calendar/3232145/asynchronous-e
 learning-day-parent-teacher-conferences-feb-15-2023
DTSTART;VALUE=DATE:20230215
DTEND;VALUE=DATE:20230216
END:VEVENT
END:VCALENDAR
