BEGIN:VCALENDAR
VERSION:2.0
PRODID:SchoolNow
CALSCALE:GREGORIAN
BEGIN:VEVENT
UID:522acd9c-f6ed-11ec-a775-0ec0e2f11e91
DTSTAMP:20231218T223505Z
SUMMARY:School Resumes - Jan 18\, 2023
URL;VALUE=URI:https://www.hammond.k12.in.us/calendar/3232144/school-resumes
 -jan-18-2023
DTSTART;VALUE=DATE:20230118
DTEND;VALUE=DATE:20230119
END:VEVENT
END:VCALENDAR
