BEGIN:VCALENDAR
VERSION:2.0
PRODID:SchoolNow
CALSCALE:GREGORIAN
BEGIN:VEVENT
UID:42d381cc-f6ed-11ec-bc05-0ec0e2f11e91
DTSTAMP:20231218T220002Z
SUMMARY:Teacher Work Day (No School for Students) / End of 1st Semester - J
 an. 17\, 2023
URL;VALUE=URI:https://www.hammond.k12.in.us/calendar/3232143/teacher-work-d
 ay-no-school-for-students-end-of-1st-semester-jan-17-2023
DTSTART;VALUE=DATE:20230117
DTEND;VALUE=DATE:20230118
END:VEVENT
END:VCALENDAR
