BEGIN:VCALENDAR
VERSION:2.0
PRODID:SchoolNow
CALSCALE:GREGORIAN
BEGIN:VEVENT
UID:269a7fa6-f6ed-11ec-a773-0ec0e2f11e91
DTSTAMP:20231218T223638Z
SUMMARY:Martin Luther King Day 2023 (No School)
URL;VALUE=URI:https://www.hammond.k12.in.us/calendar/3232142/martin-luther-
 king-day-2023-no-school
DTSTART;VALUE=DATE:20230116
DTEND;VALUE=DATE:20230117
END:VEVENT
END:VCALENDAR
