BEGIN:VCALENDAR
VERSION:2.0
PRODID:SchoolNow
CALSCALE:GREGORIAN
BEGIN:VEVENT
UID:0fda12e0-f6ed-11ec-a194-0ec0e2f11e91
DTSTAMP:20231218T223454Z
SUMMARY:School Resumes - Jan 3\, 2023
URL;VALUE=URI:https://www.hammond.k12.in.us/calendar/3232141/school-resumes
 -jan-3-2023
DTSTART;VALUE=DATE:20230103
DTEND;VALUE=DATE:20230104
END:VEVENT
END:VCALENDAR
