BEGIN:VCALENDAR
VERSION:2.0
PRODID:SchoolNow
CALSCALE:GREGORIAN
BEGIN:VEVENT
UID:9769c814-f6ec-11ec-85f5-0a92716e8889
DTSTAMP:20231218T224424Z
SUMMARY:Thanksgiving Break 2022 (No School)
URL;VALUE=URI:https://www.hammond.k12.in.us/calendar/3232137/thanksgiving-b
 reak-2022-no-school
DTSTART;VALUE=DATE:20221123
DTEND;VALUE=DATE:20221126
END:VEVENT
END:VCALENDAR
