BEGIN:VCALENDAR
VERSION:2.0
PRODID:SchoolNow
CALSCALE:GREGORIAN
BEGIN:VEVENT
UID:6276d994-f6ec-11ec-a65f-0a92716e8889
DTSTAMP:20231218T221345Z
SUMMARY:Asynchronous eLearning Day (Elections) & Parent/Teacher Conferences
  - Nov. 8\, 2022
URL;VALUE=URI:https://www.hammond.k12.in.us/calendar/3232125/asynchronous-e
 learning-day-elections-parent-teacher-conferences-nov-8-2022
DTSTART;VALUE=DATE:20221108
DTEND;VALUE=DATE:20221109
END:VEVENT
END:VCALENDAR
