BEGIN:VCALENDAR
VERSION:2.0
PRODID:SchoolNow
CALSCALE:GREGORIAN
BEGIN:VEVENT
UID:c29112d2-f6eb-11ec-b452-0ee793c0eb87
DTSTAMP:20231218T215948Z
SUMMARY:Teacher Work Day (No School for Students) / End of 1st Grading Peri
 od - Oct. 14\, 2022
URL;VALUE=URI:https://www.hammond.k12.in.us/calendar/3232124/teacher-work-d
 ay-no-school-for-students-end-of-1st-grading-period-oct-14-2022
DTSTART;VALUE=DATE:20221014
DTEND;VALUE=DATE:20221015
END:VEVENT
END:VCALENDAR
