BEGIN:VCALENDAR
VERSION:2.0
PRODID:SchoolNow
CALSCALE:GREGORIAN
BEGIN:VEVENT
UID:29f50b7e-f6ea-11ec-ac5e-0255699ffb2d
DTSTAMP:20231218T224412Z
SUMMARY:Fall Break 2022 (No School)
URL;VALUE=URI:https://www.hammond.k12.in.us/calendar/3232122/fall-break-202
 2-no-school
DTSTART;VALUE=DATE:20221017
DTEND;VALUE=DATE:20221022
END:VEVENT
END:VCALENDAR
