BEGIN:VCALENDAR
VERSION:2.0
PRODID:SchoolNow
CALSCALE:GREGORIAN
BEGIN:VEVENT
UID:fe5c4284-f6e9-11ec-a0c1-0e216979ff5f
DTSTAMP:20231218T221149Z
SUMMARY:Labor Day 2022 (No School)
URL;VALUE=URI:https://www.hammond.k12.in.us/calendar/3232121/labor-day-2022
 -no-school
DTSTART;VALUE=DATE:20220905
DTEND;VALUE=DATE:20220906
END:VEVENT
END:VCALENDAR
