BEGIN:VCALENDAR
VERSION:2.0
PRODID:SchoolNow
CALSCALE:GREGORIAN
BEGIN:VEVENT
UID:7500e7d8-f6e9-11ec-96a1-0255699ffb2d
DTSTAMP:20231218T213051Z
SUMMARY:School Board Meeting - Nov. 15\, 2022
LOCATION:41 Williams Street\, Hammond\, IN. 46320
URL;VALUE=URI:https://www.hammond.k12.in.us/calendar/3232119/school-board-m
 eeting-nov-15-2022
DTSTART:20221116T000000Z
DTEND:20221116T020000Z
ATTACH;FILENAME=SCH_Public Meetings_Executive Session_1122_R.pdf;FMTTYPE=ap
 plication/pdf:https://campussuite-storage.s3.amazonaws.com/prod/1559033/fa
 b8744a-ab41-11ea-9bfa-127f10bcdb1b/2506053/6e3853c4-5ebc-11ed-bba8-0e29190
 3443f/file/SCH_Public Meetings_Executive Session_1122_R.pdf
ATTACH;FILENAME=School Board Meetings_Nov Dec_2022_R.pdf;FMTTYPE=applicatio
 n/pdf:https://campussuite-storage.s3.amazonaws.com/prod/1559033/fab8744a-a
 b41-11ea-9bfa-127f10bcdb1b/2506054/c9e2aaf8-5ebc-11ed-8f21-0a7e37eba60d/fi
 le/School Board Meetings_Nov Dec_2022_R.pdf
END:VEVENT
END:VCALENDAR
