BEGIN:VCALENDAR
VERSION:2.0
PRODID:SchoolNow
CALSCALE:GREGORIAN
BEGIN:VEVENT
UID:57a9a9cc-f6e9-11ec-bbe4-0255699ffb2d
DTSTAMP:20231218T213029Z
SUMMARY:School Board Meeting - Oct. 25\, 2022
LOCATION:41 Williams Street\, Hammond\, IN. 46320
URL;VALUE=URI:https://www.hammond.k12.in.us/calendar/3232117/school-board-m
 eeting-oct-25-2022
DTSTART:20221025T230000Z
DTEND:20221026T010000Z
END:VEVENT
END:VCALENDAR
