BEGIN:VCALENDAR
VERSION:2.0
PRODID:SchoolNow
CALSCALE:GREGORIAN
BEGIN:VEVENT
UID:50f14360-f6e9-11ec-9a16-0255699ffb2d
DTSTAMP:20231218T212819Z
SUMMARY:School Board Meeting - Oct. 6\, 2022
LOCATION:41 Williams Street\, Hammond\, IN. 46320
URL;VALUE=URI:https://www.hammond.k12.in.us/calendar/3232116/school-board-m
 eeting-oct-6-2022
DTSTART:20221006T230000Z
DTEND:20221007T010000Z
END:VEVENT
END:VCALENDAR
