BEGIN:VCALENDAR
VERSION:2.0
PRODID:SchoolNow
CALSCALE:GREGORIAN
BEGIN:VEVENT
UID:dd239fb4-e3e3-11eb-b72d-0a95bb28d3d3
DTSTAMP:20210713T140857Z
SUMMARY:Hammond Central Community Cookout
LOCATION:Hammond Central High School
URL;VALUE=URI:https://www.hammond.k12.in.us/calendar/2637933/hammond-centra
 l-community-cookout
DTSTART:20210731T160000Z
DTEND:20210731T190000Z
END:VEVENT
END:VCALENDAR
