BEGIN:VCALENDAR
VERSION:2.0
PRODID:SchoolNow
CALSCALE:GREGORIAN
BEGIN:VEVENT
UID:25be2ef4-daa9-11eb-a761-0e2785db682b
DTSTAMP:20231218T183459Z
SUMMARY:Executive Session - July 6\, 2021
LOCATION:Administration Center\, 41 Williams Street\, Hammond\, IN 46320
URL;VALUE=URI:https://www.hammond.k12.in.us/calendar/2633315/executive-sess
 ion-july-6-2021
DTSTART:20210706T223000Z
DTEND:20210706T230000Z
ATTACH;FILENAME=SCH_Executive Session_070621.pdf;FMTTYPE=application/pdf:ht
 tps://campussuite-storage.s3.amazonaws.com/prod/1559033/fab8744a-ab41-11ea
 -9bfa-127f10bcdb1b/2287633/1ffe348c-daa9-11eb-beeb-0e2785db682b/file/SCH_E
 xecutive Session_070621.pdf
END:VEVENT
END:VCALENDAR
