BEGIN:VCALENDAR
VERSION:2.0
PRODID:SchoolNow
CALSCALE:GREGORIAN
BEGIN:VEVENT
UID:68ff1afa-d8df-11eb-b827-02c969086ca9
DTSTAMP:20231218T211910Z
SUMMARY:School Board Meeting - July 20\, 2021
LOCATION:41 Williams Street\, Hammond\, IN. 46320
URL;VALUE=URI:https://www.hammond.k12.in.us/calendar/2629957/school-board-m
 eeting-july-20-2021
DTSTART:20210720T230000Z
DTEND:20210721T010000Z
END:VEVENT
END:VCALENDAR
