BEGIN:VCALENDAR
VERSION:2.0
PRODID:SchoolNow
CALSCALE:GREGORIAN
BEGIN:VEVENT
UID:4e672b9c-d8df-11eb-959f-02c969086ca9
DTSTAMP:20231218T211925Z
SUMMARY:School Board Meeting - July 6\, 2021
LOCATION:41 Williams Street\, Hammond\, IN. 46320
URL;VALUE=URI:https://www.hammond.k12.in.us/calendar/2629956/school-board-m
 eeting-july-6-2021
DTSTART:20210706T230000Z
DTEND:20210707T010000Z
END:VEVENT
END:VCALENDAR
