BEGIN:VCALENDAR
VERSION:2.0
PRODID:SchoolNow
CALSCALE:GREGORIAN
BEGIN:VEVENT
UID:8eca10b4-c976-11eb-aa74-0af6fb6cce09
DTSTAMP:20231218T183445Z
SUMMARY:Executive Session - June 15\, 2021
LOCATION:Administration Center\, 41 Williams Street\, Hammond\, IN 46320
URL;VALUE=URI:https://www.hammond.k12.in.us/calendar/2617165/executive-sess
 ion-june-15-2021
DTSTART:20210615T223000Z
DTEND:20210615T230000Z
ATTACH;FILENAME=SCH_Executive Session_June 15 2021.pdf;FMTTYPE=application/
 pdf:https://campussuite-storage.s3.amazonaws.com/prod/1559033/fab8744a-ab4
 1-11ea-9bfa-127f10bcdb1b/2277658/87f90f92-c976-11eb-8f26-0af6fb6cce09/file
 /SCH_Executive Session_June 15 2021.pdf
END:VEVENT
END:VCALENDAR
