BEGIN:VCALENDAR
VERSION:2.0
PRODID:SchoolNow
CALSCALE:GREGORIAN
BEGIN:VEVENT
UID:f8caf6b2-c92c-11eb-9dd2-0a7f11e2523d
DTSTAMP:20210720T145703Z
SUMMARY:Hammond Central Ribbon Cutting
LOCATION:Hammond Central High School
URL;VALUE=URI:https://www.hammond.k12.in.us/calendar/2615743/hammond-centra
 l-ribbon-cutting
DTSTART:20210722T200000Z
DTEND:20210722T220000Z
END:VEVENT
END:VCALENDAR
